BEGIN:VCALENDAR
VERSION:2.0
PRODID:-//ADN Self-Connexion - ECPv6.15.20//NONSGML v1.0//EN
CALSCALE:GREGORIAN
METHOD:PUBLISH
X-WR-CALNAME:ADN Self-Connexion
X-ORIGINAL-URL:https://adnselfconnexion.fr
X-WR-CALDESC:Évènements pour ADN Self-Connexion
REFRESH-INTERVAL;VALUE=DURATION:PT1H
X-Robots-Tag:noindex
X-PUBLISHED-TTL:PT1H
BEGIN:VTIMEZONE
TZID:Europe/Paris
BEGIN:DAYLIGHT
TZOFFSETFROM:+0100
TZOFFSETTO:+0200
TZNAME:CEST
DTSTART:20250330T010000
END:DAYLIGHT
BEGIN:STANDARD
TZOFFSETFROM:+0200
TZOFFSETTO:+0100
TZNAME:CET
DTSTART:20251026T010000
END:STANDARD
BEGIN:DAYLIGHT
TZOFFSETFROM:+0100
TZOFFSETTO:+0200
TZNAME:CEST
DTSTART:20260329T010000
END:DAYLIGHT
BEGIN:STANDARD
TZOFFSETFROM:+0200
TZOFFSETTO:+0100
TZNAME:CET
DTSTART:20261025T010000
END:STANDARD
BEGIN:DAYLIGHT
TZOFFSETFROM:+0100
TZOFFSETTO:+0200
TZNAME:CEST
DTSTART:20270328T010000
END:DAYLIGHT
BEGIN:STANDARD
TZOFFSETFROM:+0200
TZOFFSETTO:+0100
TZNAME:CET
DTSTART:20271031T010000
END:STANDARD
END:VTIMEZONE
BEGIN:VEVENT
DTSTART;TZID=Europe/Paris:20260526T090000
DTEND;TZID=Europe/Paris:20260529T170000
DTSTAMP:20260420T195725
CREATED:20251220T220025Z
LAST-MODIFIED:20251220T220025Z
UID:10000018-1779786000-1780074000@adnselfconnexion.fr
SUMMARY:Maïeusthésie Niveau 3 Quand la posture devient axe\, et la pratique devient un art
DESCRIPTION:  \nNiveau 3 \nL’alignement dans l’action \nQuand la posture devient axe\, et la pratique devient un art \nCe troisième niveau est un espace d’intégration avancée. Approfondir et incarner les acquis des niveaux précédents à travers une pratique intensive\, collective et consciente\, dans un cadre à la fois soutenant\, exigeant et sécurisant. \n  \n  \nObjectifs : \n\nApprofondir les acquis des niveaux précédents à travers de nombreuses mises en œuvre collectives\, dans un cadre soutenant\, exigeant et bienveillant.\nAjuster finement sa posture intérieure avant chaque interaction : savoir d’où l’on parle\, et pour quoi l’on agit.\nDéployer une assertivité fluide\, enracinée\, vivante au service de l’écoute\, de l’accompagnement et de la relation thérapeutique.\nDévelopper une capacité à s’orienter rapidement et avec justesse dans l’espace sensible de l’accompagnement psychologique.\nClarifier à chaque instant les fondements de l’acte d’accompagner :\n\n  \nCompétences développées \nAu cœur de ce niveau\, les participants vont : \n\nExpérimenter intensivement en groupe\, dans des rôles variés :\n\nAccompagnant\,\nAccompagné\,\nObservateur bienveillant.\n\n\nRecevoir des retours structurants et ajustés sur :\n\nla posture\,\nla qualité de présence\,\nl’écoute\,\nles gestes visibles et invisibles.\n\n\n\n  \n\nIntégrer une lecture fine des dynamiques relationnelles\, des mouvements de projection et des zones de confusion possibles.\nAncrer la capacité à :\n\ndémarrer un accompagnement avec clarté\,\nle conduire avec discernement\,\nle clore avec justesse et respect.\n\n\n\nPrérequis \nAvoir suivi et intégré les Niveaux 1 et 2 du parcours
URL:https://adnselfconnexion.fr/formation/maieusthesie-niveau-3-quand-la-posture-devient-axe-et-la-pratique-devient-un-art/
LOCATION:Vannes
ATTACH;FMTTYPE=image/png:https://adnselfconnexion.fr/wp-content/uploads/2025/12/MAIEUSTHESIE-Niveau-3-formation.png
ORGANIZER;CN="ADN Self-Connexion":MAILTO:contact@adnselfconnexion.fr
END:VEVENT
END:VCALENDAR