BEGIN:VCALENDAR
VERSION:2.0
PRODID:-//ADN Self-Connexion - ECPv6.15.20//NONSGML v1.0//EN
CALSCALE:GREGORIAN
METHOD:PUBLISH
X-WR-CALNAME:ADN Self-Connexion
X-ORIGINAL-URL:https://adnselfconnexion.fr
X-WR-CALDESC:Évènements pour ADN Self-Connexion
REFRESH-INTERVAL;VALUE=DURATION:PT1H
X-Robots-Tag:noindex
X-PUBLISHED-TTL:PT1H
BEGIN:VTIMEZONE
TZID:Europe/Paris
BEGIN:DAYLIGHT
TZOFFSETFROM:+0100
TZOFFSETTO:+0200
TZNAME:CEST
DTSTART:20240331T010000
END:DAYLIGHT
BEGIN:STANDARD
TZOFFSETFROM:+0200
TZOFFSETTO:+0100
TZNAME:CET
DTSTART:20241027T010000
END:STANDARD
BEGIN:DAYLIGHT
TZOFFSETFROM:+0100
TZOFFSETTO:+0200
TZNAME:CEST
DTSTART:20250330T010000
END:DAYLIGHT
BEGIN:STANDARD
TZOFFSETFROM:+0200
TZOFFSETTO:+0100
TZNAME:CET
DTSTART:20251026T010000
END:STANDARD
BEGIN:DAYLIGHT
TZOFFSETFROM:+0100
TZOFFSETTO:+0200
TZNAME:CEST
DTSTART:20260329T010000
END:DAYLIGHT
BEGIN:STANDARD
TZOFFSETFROM:+0200
TZOFFSETTO:+0100
TZNAME:CET
DTSTART:20261025T010000
END:STANDARD
BEGIN:DAYLIGHT
TZOFFSETFROM:+0100
TZOFFSETTO:+0200
TZNAME:CEST
DTSTART:20270328T010000
END:DAYLIGHT
BEGIN:STANDARD
TZOFFSETFROM:+0200
TZOFFSETTO:+0100
TZNAME:CET
DTSTART:20271031T010000
END:STANDARD
END:VTIMEZONE
BEGIN:VEVENT
DTSTART;VALUE=DATE:20250425
DTEND;VALUE=DATE:20250428
DTSTAMP:20260426T055427
CREATED:20241017T154522Z
LAST-MODIFIED:20250305T140324Z
UID:10000008-1745539200-1745798399@adnselfconnexion.fr
SUMMARY:Théorie Polyvagale & Réflèxes Archaïques
DESCRIPTION:Théorie Polyvagale & Réflexes Archaïques\nRéinvente-toi\, libère-toi de tes blocages et ose !\nEst-ce qu’il t’arrive de ressentir dans ta vie que tu joues un rôle ? Et que ce rôle crée un costume qui te mets trop à l’étroit ?! \nEst-ce comme nous il t’es arrivé de ne pas oser dire\, « te forcer à.… »\, de chercher à convaincre\, à persuader\, comme pour répondre aux attentes des autres ?! \nL’impact pour toi est de te couper de tes émotions\, de tes propres valeurs\, tes motivations et tes rêves. On en perd le sens et la connexion à sa propre boussole intérieure. \nTout cela amène du doute et du manque de confiance\, impact nos comportements et nos relations. \nNous avons également observé que ces attitudes entretiennent une forme de vigilance (génératrice de stress) et de réactivité. Qui a terme a un impact sur notre énergie et notre santé. \nNous avons découvert qu’il est concrètement possible de discerner ces moments de réactions. Qu’il est ainsi possible de prendre conscience que ces attitudes ne sont que des états que nous traversons\, et en aucun cas une définition de soi-même. \nAlors comment dépasser ses blocages et se libérer ?\nÀ travers deux axes majeurs que nous avons longuement expérimenté et compilé pour nos formations : la Théorie Polyvagale et les Réflexes Archaïques. \nSi toi aussi tu souhaites vivre ta vie\, saute le pas !\nRejoins-nous lors de nos prochaines formations et « Réinvente-Toi! » \n  \nDossier de présentation :\nTéléchargez notre dossier de présentation et connaître tous les détails ! \nPrésentation Théorie Polyvagale & Réflèxes Archaïque – Avril 2025 \nModalités d’inscription :\nTéléchargez notre fiche d’inscription et nous la retourner par mail à. : contact@adnselfconnexion.fr \nFiche d’inscription Théorie Polyvagale & Réflèxes Archaïques
URL:https://adnselfconnexion.fr/formation/theorie-polyvagale-reflexes-archaiques/
LOCATION:Domaine du Petit Tertre\, 1029 Le Petit Tertre\, Sainte-Sabine-sur-Longève\, 72380\, France
CATEGORIES:Réflexes archaïques,Théorie Polyvagale,Toutes les formations,Toutes les thématiques
ATTACH;FMTTYPE=image/jpeg:https://adnselfconnexion.fr/wp-content/uploads/2024/10/1500x642_ADN-SC_formation_reflexes-archaiques-theorie-polyvagale_blue.jpg
ORGANIZER;CN="ADN Self-Connexion":MAILTO:contact@adnselfconnexion.fr
END:VEVENT
BEGIN:VEVENT
DTSTART;TZID=Europe/Paris:20260425T090000
DTEND;TZID=Europe/Paris:20260426T170000
DTSTAMP:20260426T055427
CREATED:20250528T182438Z
LAST-MODIFIED:20251110T175240Z
UID:10000012-1777107600-1777222800@adnselfconnexion.fr
SUMMARY:Réinvente-toi avec la Théorie Polyvagale & les Réflexes Archaïques
DESCRIPTION:Réinvente-toi avec la Théorie Polyvagale & les Réflexes Archaïques \n🌿 Du 25 au 26 Avril 2026 | Au bord de la rivière d’Auray – Port de Saint Goustan (56) \nEt si tu reprenais contact avec ton corps et ton système nerveux ?\nEt si tes blocages étaient l’expression d’un système qui demande à être entendu\, accueilli\, apaisé ? \n🔹 Explore ton fonctionnement interne à travers la Théorie Polyvagale.\n🔹 Libère-toi en douceur grâce aux Réflexes Archaïques.\n🔹 Retrouve ta boussole intérieure\, ton ancrage\, ta capacité d’action. \n🎯 2 jours pour te reconnecter à toi-même\, dans un cadre naturel et bienveillant. \n👉 Places limitées – Réserve ton week-end !
URL:https://adnselfconnexion.fr/formation/reinvente-toi-avec-la-theorie-polyvagale-les-reflexes-archaiques/
LOCATION:Port de Saint Goustan – AURAY (56)
CATEGORIES:Gestion du stress,Intelligence corporelle,Réflexes archaïques,Théorie Polyvagale
ATTACH;FMTTYPE=image/jpeg:https://adnselfconnexion.fr/wp-content/uploads/2025/05/Copie-de-FORMATION-Reinvente-toi-Libere-toi-de-tes-blocages-et-ose-1.jpg
ORGANIZER;CN="ADN Self-Connexion":MAILTO:contact@adnselfconnexion.fr
END:VEVENT
END:VCALENDAR