BEGIN:VCALENDAR
VERSION:2.0
PRODID:-//ADN Self-Connexion - ECPv6.15.20//NONSGML v1.0//EN
CALSCALE:GREGORIAN
METHOD:PUBLISH
X-ORIGINAL-URL:https://adnselfconnexion.fr
X-WR-CALDESC:Évènements pour ADN Self-Connexion
REFRESH-INTERVAL;VALUE=DURATION:PT1H
X-Robots-Tag:noindex
X-PUBLISHED-TTL:PT1H
BEGIN:VTIMEZONE
TZID:Europe/Paris
BEGIN:DAYLIGHT
TZOFFSETFROM:+0100
TZOFFSETTO:+0200
TZNAME:CEST
DTSTART:20230326T010000
END:DAYLIGHT
BEGIN:STANDARD
TZOFFSETFROM:+0200
TZOFFSETTO:+0100
TZNAME:CET
DTSTART:20231029T010000
END:STANDARD
BEGIN:DAYLIGHT
TZOFFSETFROM:+0100
TZOFFSETTO:+0200
TZNAME:CEST
DTSTART:20240331T010000
END:DAYLIGHT
BEGIN:STANDARD
TZOFFSETFROM:+0200
TZOFFSETTO:+0100
TZNAME:CET
DTSTART:20241027T010000
END:STANDARD
BEGIN:DAYLIGHT
TZOFFSETFROM:+0100
TZOFFSETTO:+0200
TZNAME:CEST
DTSTART:20250330T010000
END:DAYLIGHT
BEGIN:STANDARD
TZOFFSETFROM:+0200
TZOFFSETTO:+0100
TZNAME:CET
DTSTART:20251026T010000
END:STANDARD
END:VTIMEZONE
BEGIN:VEVENT
DTSTART;VALUE=DATE:20241207
DTEND;VALUE=DATE:20241208
DTSTAMP:20260419T182531
CREATED:20241017T124804Z
LAST-MODIFIED:20241023T133239Z
UID:10000002-1733529600-1733615999@adnselfconnexion.fr
SUMMARY:Communication relationnelle (inspiré CNV)
DESCRIPTION:Atelier éducation parentalité favoriser l’écoute et la prise en compte des émotions et des besoins de chacun quel que soit son âge ! \n\nTisser des liens de confiance\nPoser des limites avec bienveillance\nTransformer les conflits en préservant la relation\nExprimer ce qu’on apprécie (nommer les moments agréables vécus par chacun…)\nParents d’enfants de tout âges
URL:https://adnselfconnexion.fr/formation/communication-relationnelle-inspire-cnv/
LOCATION:Maison de la parentalité\, 504 Avenue du Loiret\, Olivet\, 45160\, France
CATEGORIES:Communication Relationnelle,Toutes les formations,Toutes les thématiques
ATTACH;FMTTYPE=image/jpeg:https://adnselfconnexion.fr/wp-content/uploads/2024/10/1500x642_ADN-SC_formation_CNV_04_blue.jpg
ORGANIZER;CN="ADN Self-Connexion":MAILTO:contact@adnselfconnexion.fr
END:VEVENT
END:VCALENDAR