BEGIN:VCALENDAR
VERSION:2.0
PRODID:-//ADN Self-Connexion - ECPv6.15.20//NONSGML v1.0//EN
CALSCALE:GREGORIAN
METHOD:PUBLISH
X-WR-CALNAME:ADN Self-Connexion
X-ORIGINAL-URL:https://adnselfconnexion.fr
X-WR-CALDESC:Évènements pour ADN Self-Connexion
REFRESH-INTERVAL;VALUE=DURATION:PT1H
X-Robots-Tag:noindex
X-PUBLISHED-TTL:PT1H
BEGIN:VTIMEZONE
TZID:Europe/Paris
BEGIN:DAYLIGHT
TZOFFSETFROM:+0100
TZOFFSETTO:+0200
TZNAME:CEST
DTSTART:20230326T010000
END:DAYLIGHT
BEGIN:STANDARD
TZOFFSETFROM:+0200
TZOFFSETTO:+0100
TZNAME:CET
DTSTART:20231029T010000
END:STANDARD
BEGIN:DAYLIGHT
TZOFFSETFROM:+0100
TZOFFSETTO:+0200
TZNAME:CEST
DTSTART:20240331T010000
END:DAYLIGHT
BEGIN:STANDARD
TZOFFSETFROM:+0200
TZOFFSETTO:+0100
TZNAME:CET
DTSTART:20241027T010000
END:STANDARD
BEGIN:DAYLIGHT
TZOFFSETFROM:+0100
TZOFFSETTO:+0200
TZNAME:CEST
DTSTART:20250330T010000
END:DAYLIGHT
BEGIN:STANDARD
TZOFFSETFROM:+0200
TZOFFSETTO:+0100
TZNAME:CET
DTSTART:20251026T010000
END:STANDARD
BEGIN:DAYLIGHT
TZOFFSETFROM:+0100
TZOFFSETTO:+0200
TZNAME:CEST
DTSTART:20260329T010000
END:DAYLIGHT
BEGIN:STANDARD
TZOFFSETFROM:+0200
TZOFFSETTO:+0100
TZNAME:CET
DTSTART:20261025T010000
END:STANDARD
BEGIN:DAYLIGHT
TZOFFSETFROM:+0100
TZOFFSETTO:+0200
TZNAME:CEST
DTSTART:20270328T010000
END:DAYLIGHT
BEGIN:STANDARD
TZOFFSETFROM:+0200
TZOFFSETTO:+0100
TZNAME:CET
DTSTART:20271031T010000
END:STANDARD
END:VTIMEZONE
BEGIN:VEVENT
DTSTART;VALUE=DATE:20241121
DTEND;VALUE=DATE:20241122
DTSTAMP:20260425T134205
CREATED:20241017T125417Z
LAST-MODIFIED:20241023T133251Z
UID:10000003-1732147200-1732233599@adnselfconnexion.fr
SUMMARY:Gestion de la colère - Communication relationnelle (inspiré de la CNV)
DESCRIPTION:Cette formation permet d’aborder à la fois la gestion de sa propre colère et la gestion de la colère et de l’agressivité de l’autre. \nObjectifs :\n\nAppliquer le processus de la Communication Relationnelle (inspirée de la CNV) à l’expression de la colère\nExprimer sa colère d’une manière respectueuse de soi\, des autres et du contexte\, et de façon constructive\nAccueillir la colère de l’autre sans la prendre contre soi\, en accompagnant la transformation au service de la relation\nMaintenir le dialogue avec une personne en colère
URL:https://adnselfconnexion.fr/formation/gestion-de-la-colere-communication-relationnelle-inspire-de-la-cnv/
LOCATION:Maison de la parentalité\, 504 Avenue du Loiret\, Olivet\, 45160\, France
CATEGORIES:Communication Relationnelle,Gestion de la colère,Toutes les formations,Toutes les thématiques
ATTACH;FMTTYPE=image/jpeg:https://adnselfconnexion.fr/wp-content/uploads/2024/10/1500x642_ADN-SC_formation_CNV_05_blue.jpg
ORGANIZER;CN="ADN Self-Connexion":MAILTO:contact@adnselfconnexion.fr
END:VEVENT
BEGIN:VEVENT
DTSTART;VALUE=DATE:20241207
DTEND;VALUE=DATE:20241208
DTSTAMP:20260425T134205
CREATED:20241017T124804Z
LAST-MODIFIED:20241023T133239Z
UID:10000002-1733529600-1733615999@adnselfconnexion.fr
SUMMARY:Communication relationnelle (inspiré CNV)
DESCRIPTION:Atelier éducation parentalité favoriser l’écoute et la prise en compte des émotions et des besoins de chacun quel que soit son âge ! \n\nTisser des liens de confiance\nPoser des limites avec bienveillance\nTransformer les conflits en préservant la relation\nExprimer ce qu’on apprécie (nommer les moments agréables vécus par chacun…)\nParents d’enfants de tout âges
URL:https://adnselfconnexion.fr/formation/communication-relationnelle-inspire-cnv/
LOCATION:Maison de la parentalité\, 504 Avenue du Loiret\, Olivet\, 45160\, France
CATEGORIES:Communication Relationnelle,Toutes les formations,Toutes les thématiques
ATTACH;FMTTYPE=image/jpeg:https://adnselfconnexion.fr/wp-content/uploads/2024/10/1500x642_ADN-SC_formation_CNV_04_blue.jpg
ORGANIZER;CN="ADN Self-Connexion":MAILTO:contact@adnselfconnexion.fr
END:VEVENT
BEGIN:VEVENT
DTSTART;VALUE=DATE:20241216
DTEND;VALUE=DATE:20241218
DTSTAMP:20260425T134205
CREATED:20241017T125841Z
LAST-MODIFIED:20241023T133219Z
UID:10000005-1734307200-1734479999@adnselfconnexion.fr
SUMMARY:Formation aux bases de Communication relationnelle - Module 2
DESCRIPTION:Les bases de la Communication relationnelle\, inspirée de la Communication Non-Violente de Marshall Rosenberg. \nObjectifs de la formation:\n\nDévelopper ses capacités de communication\nDifférencier ses sentiments de ses interprétations\nDécouvrir et exprimer nos besoins profonds\nPrésenter nos demandes de façon positive\, concrète et réalisable.\n\nProgramme du module 2 de la formation\n\nL’ouverture au dialogue\nL’auto-empathie\nL’écoute empathique de ce qui se passe pour l’autre\nÉtablir un lien avec l’autre en formulant une demande\nS’entraîner à voir et exprimer ce qui va bien et un remerciement
URL:https://adnselfconnexion.fr/formation/formation-aux-bases-de-communication-relationnelle-module-2/
LOCATION:Maison de la parentalité\, 504 Avenue du Loiret\, Olivet\, 45160\, France
CATEGORIES:Communication Relationnelle,Toutes les formations,Toutes les thématiques
ATTACH;FMTTYPE=image/jpeg:https://adnselfconnexion.fr/wp-content/uploads/2024/10/1500x642_ADN-SC_formation_CNV_02_blue.jpg
ORGANIZER;CN="ADN Self-Connexion":MAILTO:contact@adnselfconnexion.fr
END:VEVENT
BEGIN:VEVENT
DTSTART;VALUE=DATE:20250120
DTEND;VALUE=DATE:20250122
DTSTAMP:20260425T134205
CREATED:20241017T125929Z
LAST-MODIFIED:20241023T133207Z
UID:10000006-1737331200-1737503999@adnselfconnexion.fr
SUMMARY:Formation aux bases de Communication relationnelle - Module 3
DESCRIPTION:Les bases de la Communication relationnelle\, inspirée de la Communication Non-Violente de Marshall Rosenberg. \nObjectifs de la formation:\n\nDévelopper ses capacités de communication\nDifférencier ses sentiments de ses interprétations\nDécouvrir et exprimer nos besoins profonds\nPrésenter nos demandes de façon positive\, concrète et réalisable.\n\nProgramme du module 3 de la formation\n\nLa pratique du dialogue\nApprofondir l’auto-empathie et l’empathie\nS’entraîner à la pratique du dialogue\nApprendre à partir de nos blocages et de nos défis relationnels\nEntendre et exprimer “non”
URL:https://adnselfconnexion.fr/formation/formation-aux-bases-de-communication-relationnelle-module-3/
LOCATION:Maison de la parentalité\, 504 Avenue du Loiret\, Olivet\, 45160\, France
CATEGORIES:Communication Relationnelle,Toutes les formations,Toutes les thématiques
ATTACH;FMTTYPE=image/jpeg:https://adnselfconnexion.fr/wp-content/uploads/2024/10/1500x642_ADN-SC_formation_CNV_01_blue.jpg
ORGANIZER;CN="ADN Self-Connexion":MAILTO:contact@adnselfconnexion.fr
END:VEVENT
BEGIN:VEVENT
DTSTART;VALUE=DATE:20260201
DTEND;VALUE=DATE:20260203
DTSTAMP:20260425T134205
CREATED:20241017T125747Z
LAST-MODIFIED:20260126T142944Z
UID:10000004-1769904000-1770076799@adnselfconnexion.fr
SUMMARY:Formation aux bases de Communication relationnelle - Module 1
DESCRIPTION:Les bases de la Communication Non-Violente de Marshall Rosenberg. \nObjectifs de la formation:\n\nDévelopper ses capacités de communication\nDifférencier ses sentiments de ses interprétations\nDécouvrir et exprimer nos besoins profonds\nPrésenter nos demandes de façon positive\, concrète et réalisable.\n\nProgramme du module 1 de la formation\n\nL’introduction à la communication relationnelle\nDécouvrir l’intention du processus\nRepérer nos habitudes de langage qui entravent la relation\nPrésenter le processus : observation\, sentiment\, besoin\, demande\nClarifier puis exprimer ce qui se passe en nous\nLes 4 manières de recevoir un message
URL:https://adnselfconnexion.fr/formation/formation-aux-bases-de-communication-relationnelle-module-1/
LOCATION:Chanteloup en Brie\, 77600\, France
CATEGORIES:Communication Relationnelle,Toutes les formations,Toutes les thématiques
ATTACH;FMTTYPE=image/png:https://adnselfconnexion.fr/wp-content/uploads/2025/07/cnvf-ormation.png
ORGANIZER;CN="ADN Self-Connexion":MAILTO:contact@adnselfconnexion.fr
END:VEVENT
BEGIN:VEVENT
DTSTART;TZID=Europe/Paris:20260314T090000
DTEND;TZID=Europe/Paris:20260315T170000
DTSTAMP:20260425T134205
CREATED:20260321T003816Z
LAST-MODIFIED:20260321T003816Z
UID:10000086-1773478800-1773594000@adnselfconnexion.fr
SUMMARY:Modules de Base 1\, 2 & 3 en Communication Non Violente - CNV
DESCRIPTION:Et si la paix devenait une compétence que l’on cultive ? ✨\nS’inspirant de la vision de Marshall Rosenberg\, la Communication NonViolente nous invite à changer de paradigme : passer d’un monde de « qui a tort\, qui a raison » à un monde où les besoins de chacun comptent. \nEn partenariat avec l’EPE45\, j’ai la joie de proposer en 2026 le cursus complet des modules de base (1\, 2 et 3). Ce parcours est conçu selon les standards de transmission de Marshall Rosenberg\, visant à : \n\n\nDévelopper une qualité de présence à soi et à l’autre. \n\n\nSortir des schémas de réaction pour entrer dans une culture de la coopération. \n\n\nTraduire nos mécanismes de défense en besoins universels. \n\n\nFaire le choix de ce cursus à Olivet\, c’est s’engager dans une démarche certifiée Qualiopi\, garantissant un cadre pédagogique structuré et professionnel. \n📅 Le calendrier de votre transformation : \n\n\nModule 1 : 14 & 15 mars 2026 – L’introduction à la CNV\, \n\n\nModule 2 : 30 & 31 mai 2026 – L’ouverture au dialogue\, \n\n\nModule 3 : 26 & 27 sept. 2026 – La pratique du dialogue. \n\n\n📍 Inscriptions & Programme : www.epe45.fr | contact@epe45.fr \n👥 Intervenant : Nicolas HO\, Formateur Certifié CNVC \n#CNV #CommunicationNonViolente #FormationProfessionnelle #Qualiopi #EPE45 #NicolasHO #Ethique #Loiret
URL:https://adnselfconnexion.fr/formation/modules-de-base-1-2-3-en-communication-non-violente-cnv/2026-03-14/
LOCATION:Ecole des Parents et des Educateurs du Loiret – EPE45\, 504 Avenue du Loiret\, Olivet\, 45160
CATEGORIES:Communication Non Violente,Communication Relationnelle,Gestion des conflits
ATTACH;FMTTYPE=image/jpeg:https://adnselfconnexion.fr/wp-content/uploads/2026/03/Modules-de-base-CNV.jpeg
END:VEVENT
BEGIN:VEVENT
DTSTART;TZID=Europe/Paris:20260314T090000
DTEND;TZID=Europe/Paris:20260315T173000
DTSTAMP:20260425T134205
CREATED:20260126T165944Z
LAST-MODIFIED:20260126T165944Z
UID:10000020-1773478800-1773595800@adnselfconnexion.fr
SUMMARY:Formation aux bases de Communication relationnelle - Module 1
DESCRIPTION:Les bases de la Communication Non-Violente de Marshall Rosenberg. \nObjectifs de la formation:\n\nDévelopper ses capacités de communication\nDifférencier ses sentiments de ses interprétations\nDécouvrir et exprimer nos besoins profonds\nPrésenter nos demandes de façon positive\, concrète et réalisable.\n\nProgramme du module 1 de la formation\n\nL’introduction à la communication relationnelle\nDécouvrir l’intention du processus\nRepérer nos habitudes de langage qui entravent la relation\nPrésenter le processus : observation\, sentiment\, besoin\, demande\nClarifier puis exprimer ce qui se passe en nous\nLes 4 manières de recevoir un message
URL:https://adnselfconnexion.fr/formation/formation-aux-bases-de-communication-relationnelle-module-1-2/
LOCATION:EPE OLIVET\, 504 Av. du Loiret\, Olivet\, 45160
CATEGORIES:Communication Relationnelle,Toutes les formations,Toutes les thématiques
ATTACH;FMTTYPE=image/png:https://adnselfconnexion.fr/wp-content/uploads/2026/01/cnv-module-1.png
ORGANIZER;CN="ADN Self-Connexion":MAILTO:contact@adnselfconnexion.fr
END:VEVENT
BEGIN:VEVENT
DTSTART;TZID=Europe/Paris:20260418T090000
DTEND;TZID=Europe/Paris:20260419T170000
DTSTAMP:20260425T134205
CREATED:20260320T233800Z
LAST-MODIFIED:20260320T234611Z
UID:10000085-1776502800-1776618000@adnselfconnexion.fr
SUMMARY:Intelligence Martiale & Nerf Polyvagal - Systema & Théorie Polyvagale
DESCRIPTION:Et si votre sentiment de sécurité ne dépendait pas de l’extérieur\, mais de votre propre système nerveux ?\nIntelligence Martiale & Nerf Polyvagal \nImaginez une méthode où le mouvement ne sert pas qu’à se défendre\, mais à « dialoguer » avec son stress. Lors de notre stage Intelligence Martiale & Nerf Polyvagal\, nous allons explorer comment le Systema et la TPV s’unissent pour transformer vos réflexes de survie (figement\, fuite\, combat) en une force sereine et adaptable. \nPourquoi venir ? Pour passer de la réaction automatique à la réponse consciente. \nSystema & Théorie Polyvagale : La science et l’efficacité martiale au service de la vie. \nPourquoi certains s’effondrent sous la pression alors que d’autres restent fluides ? La réponse se cache dans le Nerf Vague. 🧠 \nPendant 2 jours\, nous allons mettre la théorie en pratique : \n\nComprendre l’état de votre système nerveux en temps réel.\nAppliquer les principes de respiration et de mouvement du Systema pour réguler cet état.\nAncrer une sécurité intérieure profonde\, même dans l’adversité.\n\nNe manquez pas cette opportunité unique de coupler neurosciences et art martial. \nLe petit plus : Un cadre magnifique à Toulouse (Spot Pilates Yoga) pour une expérience immersive. \n✨ Libérez vos tensions\, reprenez les commandes. \n📍 Où ? Toulouse (31)\n📅 Quand ? 18 & 19 avril 2026 \n👥 Intervenants : Nicolas HO\n🔗 Inscription : contact@adnselfconnexion.fr \n#SelfConnexion #TPV #Systema #GestionDuStress #ToulouseBienEtre #IntelligenceMartiale
URL:https://adnselfconnexion.fr/formation/intelligence-martiale-nerf-polyvagal-systema-theorie-polyvagale/
LOCATION:Spot Pilates Yoga – Toulouse\, 12 Bis Rue François Oulié\, Toulouse\, 31500
CATEGORIES:Communication Relationnelle,Gestion des conflits,Gestion du stress,Intelligence corporelle,Théorie Polyvagale
ATTACH;FMTTYPE=image/png:https://adnselfconnexion.fr/wp-content/uploads/2026/03/17.png
ORGANIZER;CN="ADN Self-Connexion":MAILTO:contact@adnselfconnexion.fr
END:VEVENT
END:VCALENDAR