BEGIN:VCALENDAR
VERSION:2.0
PRODID:-//ADN Self-Connexion - ECPv6.15.20//NONSGML v1.0//EN
CALSCALE:GREGORIAN
METHOD:PUBLISH
X-WR-CALNAME:ADN Self-Connexion
X-ORIGINAL-URL:https://adnselfconnexion.fr
X-WR-CALDESC:Évènements pour ADN Self-Connexion
REFRESH-INTERVAL;VALUE=DURATION:PT1H
X-Robots-Tag:noindex
X-PUBLISHED-TTL:PT1H
BEGIN:VTIMEZONE
TZID:Europe/Paris
BEGIN:DAYLIGHT
TZOFFSETFROM:+0100
TZOFFSETTO:+0200
TZNAME:CEST
DTSTART:20250330T010000
END:DAYLIGHT
BEGIN:STANDARD
TZOFFSETFROM:+0200
TZOFFSETTO:+0100
TZNAME:CET
DTSTART:20251026T010000
END:STANDARD
BEGIN:DAYLIGHT
TZOFFSETFROM:+0100
TZOFFSETTO:+0200
TZNAME:CEST
DTSTART:20260329T010000
END:DAYLIGHT
BEGIN:STANDARD
TZOFFSETFROM:+0200
TZOFFSETTO:+0100
TZNAME:CET
DTSTART:20261025T010000
END:STANDARD
BEGIN:DAYLIGHT
TZOFFSETFROM:+0100
TZOFFSETTO:+0200
TZNAME:CEST
DTSTART:20270328T010000
END:DAYLIGHT
BEGIN:STANDARD
TZOFFSETFROM:+0200
TZOFFSETTO:+0100
TZNAME:CET
DTSTART:20271031T010000
END:STANDARD
END:VTIMEZONE
BEGIN:VEVENT
DTSTART;TZID=Europe/Paris:20260420T090000
DTEND;TZID=Europe/Paris:20260423T170000
DTSTAMP:20260421T062949
CREATED:20251219T140023Z
LAST-MODIFIED:20251219T140023Z
UID:10000017-1776675600-1776963600@adnselfconnexion.fr
SUMMARY:Maïeusthésie Niveau 2 : Quand l’écoute devient art et la présence\, transformation!
DESCRIPTION:Maïeusthésie Niveau 2 : Quand l’écoute devient art et la présence\, transformation! \n  \nAprès les bases du Niveau 1\, cette formation vous invite à franchir un cap décisif : passer d’une posture technique à une posture de présence\, stable\, fine et profondément transformatrice. \nIl s’agit d’incarner une posture. Ici\, l’accompagnement devient un art vivant ! \nUne posture où la présence précède la parole. Une posture où le corps devient un repère. Une posture où la sécurité relationnelle n’est pas un concept\, mais une sensation tangible. \n  \nObjectifs : \n\nApprofondir les compétences acquises\, pour qu’elles ne soient plus un savoir-faire\, mais un savoir-être.\nInstaller une posture thérapeutique vivante : juste\, stable\, ajustée à chaque instant.\nIntégrer les principes de la maïeusthésie dans des mises en situation concrètes (en tant qu’accompagnant\, accompagné\, observateur).\nExplorer les intentionnalités inconscientes qui colorent l’accompagnement : apprendre à les reconnaître\, les nommer\, les transformer.\nComprendre que la qualité d’un accompagnement dépend d’abord de la qualité de présence à soi-même.\n\n« La posture ne se décrète pas : elle se cultive.  Elle se vit. » \n  \nAu cœur de ce niveau\, Compétences développées : \n  \n\nUne assurance accrue dans la posture de praticien.\nUne mobilisation fluide de ses propres ressources.\nUne lecture plus fine des dynamiques psychiques en cours de séance.\nUne capacité renforcée à démarrer\, ajuster et finaliser un entretien thérapeutique.\nUn positionnement plus affirmé dans la présence\, l’attention et l’intention.\n\n  \nPrérequis : Avoir suivi le Niveau 1 \n 
URL:https://adnselfconnexion.fr/formation/maieusthesie-niveau-2-quand-lecoute-devient-art-et-la-presence-transformation/
LOCATION:Auray
ATTACH;FMTTYPE=image/png:https://adnselfconnexion.fr/wp-content/uploads/2025/12/MAIEUSTHESIE-formation-Niveau-2.png
ORGANIZER;CN="ADN Self-Connexion":MAILTO:contact@adnselfconnexion.fr
END:VEVENT
END:VCALENDAR